Workbook

Sheet ফিক্সেশন ফরম
A1: জাতীয় বেতনস্কেল-২০২৬ অনুযায়ী ০১-০৭-২০২৬ তারিখে বেতন নির্ধারণী বিবরণী
B2: ভেরিফিকেশন নম্বর: | C2: খসড়া | H2: সহায়ক হিসাব (এডিট করবেন না)
B3: ▶ বর্তমান গ্রেড নম্বর (১–২০) লিখুন [ইংরেজি অঙ্কে] | H3: ইনপুট বৈধ? | I3: =AND(ISNUMBER(C3),ISNUMBER(C4),C3>=1,C3<=20,C3=INT(C3),C4>0) -> FALSE
B4: ▶ ৩০-০৬-২০২৬ তারিখের বর্তমান মূল (বেসিক) বেতন লিখুন [ইংরেজি অঙ্কে] | H4: গ্রেড | I4: =IF(I3,C3,"")
A5: =IF(NOT($I$3),"গ্রেড ও মূল বেতন (হলুদ ঘর) লিখলে হিসাব স্বয়ংক্রিয়ভাবে সম্পন্ন হবে।",IF(OR(F19<F22,F19>I9),"⚠ মোট বেতন ২০১৫ স্কেলের সীমার বাইরে — গ্রেড/বেতন যাচাই করুন (হিসাব চলছে)।",IF(F27>I10,"⚠ নির্ধারিত বেতন স্কেলের সর্বোচ্চ ধাপ অতিক্রম করেছে — সর্বোচ্চ ধাপে ধরা হয়েছে।","✓ হিসাব সম্পন্ন"))) -> গ্রেড ও মূল বেতন (হলুদ ঘর) লিখলে হিসাব স্বয়ংক্রিয়ভাবে সম্পন্ন হবে। | H5: ২০২৬ ধাপ সংখ্যা | I5: =IF(I3,INDEX('স্কেল ২০২৬'!$D$2:$D$21,I4),"")
F6: সংখ্যা (হিসাবের ঘর) | H6: ধাপ অবস্থান (সম/উচ্চ) | I6: =IF(I3,MIN(COUNTIF(INDEX('স্কেল ২০২৬'!$E$2:$W$21,I4,0),"<"&F27)+1,I5),"")
A7: ০১। | B7: জাতীয় পরিচয়পত্র নম্বর | H7: প্রথম কিস্তি % | I7: =IF(I3,IF(I4<=9,0.4,0.5),"")
A8: ০২। | B8: কর্মচারীর নাম ও পদবি | H8: দ্বিতীয় কিস্তি % | I8: =IF(I3,IF(I4<=9,0.7,0.75),"")
A9: ০৩। | B9: অফিস, অধিদপ্তর/পরিদপ্তর, মন্ত্রণালয়/বিভাগ | H9: ২০১৫ স্কেলের সর্বোচ্চ | I9: =IF(I3,INDEX('স্কেল ২০২৬'!$C$2:$C$21,I4),"")
A10: ০৪। | B10: মোবাইল ফোন নম্বর | H10: ২০২৬ স্কেলের সর্বোচ্চ | I10: =IF(I3,INDEX('স্কেল ২০২৬'!$E$2:$W$21,I4,I5),"")
A11: ০৫। | B11: জন্ম তারিখ
A12: ০৬। | B12: ক) চাকরিতে প্রথম যোগদানের তারিখ
B13: খ) প্রথম যোগদানের তারিখে পদবি
B14: গ) অফিস, মন্ত্রণালয়/বিভাগ
B15: ঘ) যোগদানের তারিখে সাবসটেনটিভ গ্রেড
A16: ০৭। | B16: ৩০-০৬-২০২৬ তারিখে -
B17: ক) গৃহীত মূল বেতন | C17: =IF($I$3,"টাকা "&SUBSTITUTE(SUBSTITUTE(SUBSTITUTE(SUBSTITUTE(SUBSTITUTE(SUBSTITUTE(SUBSTITUTE(SUBSTITUTE(SUBSTITUTE(SUBSTITUTE(TEXT(F17,"0"),"0","০"),"1","১"),"2","২"),"3","৩"),"4","৪"),"5","৫"),"6","৬"),"7","৭"),"8","৮"),"9","৯"),"") | F17: =IF($I$3,C4,"")
B18: খ) পিপি (যদি থাকে) | C18: 0
B19: গ) মোট বেতন | C19: =IF($I$3,"টাকা "&SUBSTITUTE(SUBSTITUTE(SUBSTITUTE(SUBSTITUTE(SUBSTITUTE(SUBSTITUTE(SUBSTITUTE(SUBSTITUTE(SUBSTITUTE(SUBSTITUTE(TEXT(F19,"0"),"0","০"),"1","১"),"2","২"),"3","৩"),"4","৪"),"5","৫"),"6","৬"),"7","৭"),"8","৮"),"9","৯"),"") | F19: =IF($I$3,F17+N(C18),"")
A20: ০৮। | B20: জাতীয় বেতনস্কেল-২০১৫ অনুযায়ী ৩০-০৬-২০২৬ তারিখে -
B21: ক) প্রাপ্ত গ্রেড ও স্কেল | C21: =IF($I$3,"গ্রেড - "&SUBSTITUTE(SUBSTITUTE(SUBSTITUTE(SUBSTITUTE(SUBSTITUTE(SUBSTITUTE(SUBSTITUTE(SUBSTITUTE(SUBSTITUTE(SUBSTITUTE(TEXT(I4,"0"),"0","০"),"1","১"),"2","২"),"3","৩"),"4","৪"),"5","৫"),"6","৬"),"7","৭"),"8","৮"),"9","৯")&" : ("&SUBSTITUTE(SUBSTITUTE(SUBSTITUTE(SUBSTITUTE(SUBSTITUTE(SUBSTITUTE(SUBSTITUTE(SUBSTITUTE(SUBSTITUTE(SUBSTITUTE(TEXT(F22,"0"),"0","০"),"1","১"),"2","২"),"3","৩"),"4","৪"),"5","৫"),"6","৬"),"7","৭"),"8","৮"),"9","৯")&"-"&SUBSTITUTE(SUBSTITUTE(SUBSTITUTE(SUBSTITUTE(SUBSTITUTE(SUBSTITUTE(SUBSTITUTE(SUBSTITUTE(SUBSTITUTE(SUBSTITUTE(TEXT(I9,"0"),"0","০"),"1","১"),"2","২"),"3","৩"),"4","৪"),"5","৫"),"6","৬"),"7","৭"),"8","৮"),"9","৯")&")","")
B22: খ) প্রাপ্ত গ্রেডের প্রারম্ভিক ধাপ | C22: =IF($I$3,"টাকা "&SUBSTITUTE(SUBSTITUTE(SUBSTITUTE(SUBSTITUTE(SUBSTITUTE(SUBSTITUTE(SUBSTITUTE(SUBSTITUTE(SUBSTITUTE(SUBSTITUTE(TEXT(F22,"0"),"0","০"),"1","১"),"2","২"),"3","৩"),"4","৪"),"5","৫"),"6","৬"),"7","৭"),"8","৮"),"9","৯"),"") | F22: =IF($I$3,INDEX('স্কেল ২০২৬'!$B$2:$B$21,I4),"")
B23: গ) পার্থক্য | C23: =IF($I$3,"টাকা "&SUBSTITUTE(SUBSTITUTE(SUBSTITUTE(SUBSTITUTE(SUBSTITUTE(SUBSTITUTE(SUBSTITUTE(SUBSTITUTE(SUBSTITUTE(SUBSTITUTE(TEXT(F23,"0"),"0","০"),"1","১"),"2","২"),"3","৩"),"4","৪"),"5","৫"),"6","৬"),"7","৭"),"8","৮"),"9","৯"),"") | F23: =IF($I$3,F19-F22,"")
A24: ০৯। | B24: জাতীয় বেতনস্কেল-২০২৬ অনুযায়ী ০১-০৭-২০২৬ তারিখে -
B25: ক) প্রাপ্য গ্রেড ও স্কেল | C25: =IF($I$3,"গ্রেড - "&SUBSTITUTE(SUBSTITUTE(SUBSTITUTE(SUBSTITUTE(SUBSTITUTE(SUBSTITUTE(SUBSTITUTE(SUBSTITUTE(SUBSTITUTE(SUBSTITUTE(TEXT(I4,"0"),"0","০"),"1","১"),"2","২"),"3","৩"),"4","৪"),"5","৫"),"6","৬"),"7","৭"),"8","৮"),"9","৯")&" : ("&SUBSTITUTE(SUBSTITUTE(SUBSTITUTE(SUBSTITUTE(SUBSTITUTE(SUBSTITUTE(SUBSTITUTE(SUBSTITUTE(SUBSTITUTE(SUBSTITUTE(TEXT(F26,"0"),"0","০"),"1","১"),"2","২"),"3","৩"),"4","৪"),"5","৫"),"6","৬"),"7","৭"),"8","৮"),"9","৯")&"-"&SUBSTITUTE(SUBSTITUTE(SUBSTITUTE(SUBSTITUTE(SUBSTITUTE(SUBSTITUTE(SUBSTITUTE(SUBSTITUTE(SUBSTITUTE(SUBSTITUTE(TEXT(I10,"0"),"0","০"),"1","১"),"2","২"),"3","৩"),"4","৪"),"5","৫"),"6","৬"),"7","৭"),"8","৮"),"9","৯")&")","")
B26: খ) প্রাপ্য গ্রেডের প্রারম্ভিক ধাপ | C26: =IF($I$3,"টাকা "&SUBSTITUTE(SUBSTITUTE(SUBSTITUTE(SUBSTITUTE(SUBSTITUTE(SUBSTITUTE(SUBSTITUTE(SUBSTITUTE(SUBSTITUTE(SUBSTITUTE(TEXT(F26,"0"),"0","০"),"1","১"),"2","২"),"3","৩"),"4","৪"),"5","৫"),"6","৬"),"7","৭"),"8","৮"),"9","৯"),"") | F26: =IF($I$3,INDEX('স্কেল ২০২৬'!$E$2:$W$21,I4,1),"")
B27: গ) মোট বেতন | C27: =IF($I$3,"টাকা "&SUBSTITUTE(SUBSTITUTE(SUBSTITUTE(SUBSTITUTE(SUBSTITUTE(SUBSTITUTE(SUBSTITUTE(SUBSTITUTE(SUBSTITUTE(SUBSTITUTE(TEXT(F27,"0"),"0","০"),"1","১"),"2","২"),"3","৩"),"4","৪"),"5","৫"),"6","৬"),"7","৭"),"8","৮"),"9","৯"),"") | F27: =IF($I$3,F26+F23,"")
A28: ১০। | B28: জাতীয় বেতনস্কেল-২০২৬ অনুযায়ী সম/উচ্চধাপ | C28: =IF($I$3,"টাকা "&SUBSTITUTE(SUBSTITUTE(SUBSTITUTE(SUBSTITUTE(SUBSTITUTE(SUBSTITUTE(SUBSTITUTE(SUBSTITUTE(SUBSTITUTE(SUBSTITUTE(TEXT(F28,"0"),"0","০"),"1","১"),"2","২"),"3","৩"),"4","৪"),"5","৫"),"6","৬"),"7","৭"),"8","৮"),"9","৯"),"") | F28: =IF($I$3,INDEX('স্কেল ২০২৬'!$E$2:$W$21,I4,I6),"")
A29: ১১। | B29: ০১-০৭-২০২৬ তারিখে নির্ধারিত বেতন | C29: =IF($I$3,"টাকা "&SUBSTITUTE(SUBSTITUTE(SUBSTITUTE(SUBSTITUTE(SUBSTITUTE(SUBSTITUTE(SUBSTITUTE(SUBSTITUTE(SUBSTITUTE(SUBSTITUTE(TEXT(F29,"0"),"0","০"),"1","১"),"2","২"),"3","৩"),"4","৪"),"5","৫"),"6","৬"),"7","৭"),"8","৮"),"9","৯"),"") | F29: =IF($I$3,F28,"")
A30: ১২। | B30: ০১-০৭-২০২৬ তারিখে বার্ষিক বেতন বৃদ্ধি (ইনক্রিমেন্ট) সহ নির্ধারিত বেতন | C30: =IF($I$3,"টাকা "&SUBSTITUTE(SUBSTITUTE(SUBSTITUTE(SUBSTITUTE(SUBSTITUTE(SUBSTITUTE(SUBSTITUTE(SUBSTITUTE(SUBSTITUTE(SUBSTITUTE(TEXT(F30,"0"),"0","০"),"1","১"),"2","২"),"3","৩"),"4","৪"),"5","৫"),"6","৬"),"7","৭"),"8","৮"),"9","৯"),"") | F30: =IF($I$3,INDEX('স্কেল ২০২৬'!$E$2:$W$21,I4,MIN(I6+1,I5)),"")
A31: ১৩। | B31: বেতন বৃদ্ধির পরিমাণ | C31: =IF($I$3,"টাকা "&SUBSTITUTE(SUBSTITUTE(SUBSTITUTE(SUBSTITUTE(SUBSTITUTE(SUBSTITUTE(SUBSTITUTE(SUBSTITUTE(SUBSTITUTE(SUBSTITUTE(TEXT(F31,"0"),"0","০"),"1","১"),"2","২"),"3","৩"),"4","৪"),"5","৫"),"6","৬"),"7","৭"),"8","৮"),"9","৯"),"") | F31: =IF($I$3,F29-F19,"")
A32: ১৪। | B32: ="বৃদ্ধিপ্রাপ্ত বেতনের "&IF($I$3,SUBSTITUTE(SUBSTITUTE(SUBSTITUTE(SUBSTITUTE(SUBSTITUTE(SUBSTITUTE(SUBSTITUTE(SUBSTITUTE(SUBSTITUTE(SUBSTITUTE(TEXT(I7*100,"0"),"0","০"),"1","১"),"2","২"),"3","৩"),"4","৪"),"5","৫"),"6","৬"),"7","৭"),"8","৮"),"9","৯"),"৫০")&"%" -> বৃদ্ধিপ্রাপ্ত বেতনের ৫০% | C32: =IF($I$3,"টাকা "&SUBSTITUTE(SUBSTITUTE(SUBSTITUTE(SUBSTITUTE(SUBSTITUTE(SUBSTITUTE(SUBSTITUTE(SUBSTITUTE(SUBSTITUTE(SUBSTITUTE(TEXT(F32,"0"),"0","০"),"1","১"),"2","২"),"3","৩"),"4","৪"),"5","৫"),"6","৬"),"7","৭"),"8","৮"),"9","৯"),"") | F32: =IF($I$3,ROUND(F31*I7,0),"")
A33: ১৫। | B33: ="০১-০৭-২০২৬ তারিখে প্রাপ্য বেতন ("&IF($I$3,SUBSTITUTE(SUBSTITUTE(SUBSTITUTE(SUBSTITUTE(SUBSTITUTE(SUBSTITUTE(SUBSTITUTE(SUBSTITUTE(SUBSTITUTE(SUBSTITUTE(TEXT(I7*100,"0"),"0","০"),"1","১"),"2","২"),"3","৩"),"4","৪"),"5","৫"),"6","৬"),"7","৭"),"8","৮"),"9","৯"),"৫০")&"% বৃদ্ধি অনুযায়ী)" -> ০১-০৭-২০২৬ তারিখে প্রাপ্য বেতন (৫০% বৃদ্ধি অনুযায়ী) | C33: =IF($I$3,"টাকা "&SUBSTITUTE(SUBSTITUTE(SUBSTITUTE(SUBSTITUTE(SUBSTITUTE(SUBSTITUTE(SUBSTITUTE(SUBSTITUTE(SUBSTITUTE(SUBSTITUTE(TEXT(F33,"0"),"0","০"),"1","১"),"2","২"),"3","৩"),"4","৪"),"5","৫"),"6","৬"),"7","৭"),"8","৮"),"9","৯"),"") | F33: =IF($I$3,F19+F32,"")
A34: ১৬। | B34: ০১-০৭-২০২৬ তারিখে বার্ষিক বেতন বৃদ্ধি (ইনক্রিমেন্ট) সহ প্রাপ্য বেতন | C34: =IF($I$3,"টাকা "&SUBSTITUTE(SUBSTITUTE(SUBSTITUTE(SUBSTITUTE(SUBSTITUTE(SUBSTITUTE(SUBSTITUTE(SUBSTITUTE(SUBSTITUTE(SUBSTITUTE(TEXT(F34,"0"),"0","০"),"1","১"),"2","২"),"3","৩"),"4","৪"),"5","৫"),"6","৬"),"7","৭"),"8","৮"),"9","৯"),"") | F34: =IF($I$3,F33+(F30-F29),"")
A35: ১৭। | B35: ="০১-০১-২০২৭ তারিখে বেতন বৃদ্ধির "&IF($I$3,SUBSTITUTE(SUBSTITUTE(SUBSTITUTE(SUBSTITUTE(SUBSTITUTE(SUBSTITUTE(SUBSTITUTE(SUBSTITUTE(SUBSTITUTE(SUBSTITUTE(TEXT((I8-I7)*100,"0"),"0","০"),"1","১"),"2","২"),"3","৩"),"4","৪"),"5","৫"),"6","৬"),"7","৭"),"8","৮"),"9","৯"),"২৫")&"%" -> ০১-০১-২০২৭ তারিখে বেতন বৃদ্ধির ২৫% | C35: =IF($I$3,"টাকা "&SUBSTITUTE(SUBSTITUTE(SUBSTITUTE(SUBSTITUTE(SUBSTITUTE(SUBSTITUTE(SUBSTITUTE(SUBSTITUTE(SUBSTITUTE(SUBSTITUTE(TEXT(F35,"0"),"0","০"),"1","১"),"2","২"),"3","৩"),"4","৪"),"5","৫"),"6","৬"),"7","৭"),"8","৮"),"9","৯"),"") | F35: =IF($I$3,ROUND(F31*(I8-I7),0),"")
A36: ১৮। | B36: ০১-০১-২০২৭ তারিখে নির্ধারিত প্রাপ্য বেতন | C36: =IF($I$3,"টাকা "&SUBSTITUTE(SUBSTITUTE(SUBSTITUTE(SUBSTITUTE(SUBSTITUTE(SUBSTITUTE(SUBSTITUTE(SUBSTITUTE(SUBSTITUTE(SUBSTITUTE(TEXT(F36,"0"),"0","০"),"1","১"),"2","২"),"3","৩"),"4","৪"),"5","৫"),"6","৬"),"7","৭"),"8","৮"),"9","৯"),"") | F36: =IF($I$3,F34+F35,"")
A37: ১৯। | B37: ="০১-০৭-২০২৭ তারিখে বেতন বৃদ্ধির অবশিষ্ট "&IF($I$3,SUBSTITUTE(SUBSTITUTE(SUBSTITUTE(SUBSTITUTE(SUBSTITUTE(SUBSTITUTE(SUBSTITUTE(SUBSTITUTE(SUBSTITUTE(SUBSTITUTE(TEXT((1-I8)*100,"0"),"0","০"),"1","১"),"2","২"),"3","৩"),"4","৪"),"5","৫"),"6","৬"),"7","৭"),"8","৮"),"9","৯"),"২৫")&"%" -> ০১-০৭-২০২৭ তারিখে বেতন বৃদ্ধির অবশিষ্ট ২৫% | C37: =IF($I$3,"টাকা "&SUBSTITUTE(SUBSTITUTE(SUBSTITUTE(SUBSTITUTE(SUBSTITUTE(SUBSTITUTE(SUBSTITUTE(SUBSTITUTE(SUBSTITUTE(SUBSTITUTE(TEXT(F37,"0"),"0","০"),"1","১"),"2","২"),"3","৩"),"4","৪"),"5","৫"),"6","৬"),"7","৭"),"8","৮"),"9","৯"),"") | F37: =IF($I$3,F31-F32-F35,"")
A38: ২০। | B38: ="০১-০৭-২০২৭ তারিখে নির্ধারিত প্রাপ্য বেতন ১০০%" -> ০১-০৭-২০২৭ তারিখে নির্ধারিত প্রাপ্য বেতন ১০০% | C38: =IF($I$3,"টাকা "&SUBSTITUTE(SUBSTITUTE(SUBSTITUTE(SUBSTITUTE(SUBSTITUTE(SUBSTITUTE(SUBSTITUTE(SUBSTITUTE(SUBSTITUTE(SUBSTITUTE(TEXT(F38,"0"),"0","০"),"1","১"),"2","২"),"3","৩"),"4","৪"),"5","৫"),"6","৬"),"7","৭"),"8","৮"),"9","৯"),"") | F38: =IF($I$3,F36+F37,"")
A39: ২১। | B39: ০১-০৭-২০২৭ তারিখে বার্ষিক বেতন বৃদ্ধি (ইনক্রিমেন্ট)সহ প্রাপ্য | C39: =IF($I$3,"টাকা "&SUBSTITUTE(SUBSTITUTE(SUBSTITUTE(SUBSTITUTE(SUBSTITUTE(SUBSTITUTE(SUBSTITUTE(SUBSTITUTE(SUBSTITUTE(SUBSTITUTE(TEXT(F39,"0"),"0","০"),"1","১"),"2","২"),"3","৩"),"4","৪"),"5","৫"),"6","৬"),"7","৭"),"8","৮"),"9","৯"),"") | F39: =IF($I$3,INDEX('স্কেল ২০২৬'!$E$2:$W$21,I4,MIN(I6+2,I5)),"")
B41: দাখিলকারী কর্মচারী | C41: আয়ন-ব্যয়ন কর্মকর্তা
...

Sheet স্কেল ২০২৬
A1: গ্রেড | B1: ২০১৫ স্কেল: প্রারম্ভিক | C1: ২০১৫ স্কেল: সর্বোচ্চ | D1: ২০২৬ ধাপ সংখ্যা | E1: ধাপ 1 | F1: ধাপ 2 | G1: ধাপ 3 | H1: ধাপ 4 | I1: ধাপ 5 | J1: ধাপ 6 | K1: ধাপ 7 | L1: ধাপ 8 | M1: ধাপ 9 | N1: ধাপ 10 | O1: ধাপ 11 | P1: ধাপ 12 | Q1: ধাপ 13 | R1: ধাপ 14 | S1: ধাপ 15 | T1: ধাপ 16 | U1: ধাপ 17 | V1: ধাপ 18 | W1: ধাপ 19
A2: 1 | B2: 78000 | C2: 78000 | D2: =COUNT(E2:W2) -> 1 | E2: 156000
A3: 2 | B3: 66000 | C3: 66000 | D3: =COUNT(E3:W3) -> 7 | E3: 132000 | F3: 135700 | G3: 139400 | H3: 143200 | I3: 147200 | J3: 151200 | K3: 153000
A4: 3 | B4: 56500 | C4: 74400 | D4: =COUNT(E4:W4) -> 9 | E4: 113000 | F4: 117000 | G4: 121100 | H4: 125300 | I4: 129700 | J4: 134300 | K4: 139000 | L4: 143800 | M4: 148800
A5: 4 | B5: 50000 | C5: 71200 | D5: =COUNT(E5:W5) -> 11 | E5: 100000 | F5: 103500 | G5: 107200 | H5: 110900 | I5: 114800 | J5: 118800 | K5: 123000 | L5: 127300 | M5: 131700 | N5: 136300 | O5: 142400
A6: 5 | B6: 43000 | C6: 69850 | D6: =COUNT(E6:W6) -> 13 | E6: 86000 | F6: 89500 | G6: 93100 | H6: 96800 | I6: 100700 | J6: 104700 | K6: 108900 | L6: 113200 | M6: 117700 | N6: 122500 | O6: 127400 | P6: 132400 | Q6: 139700
A7: 6 | B7: 35500 | C7: 67010 | D7: =COUNT(E7:W7) -> 14 | E7: 71000 | F7: 74600 | G7: 78300 | H7: 82200 | I7: 86400 | J7: 90700 | K7: 95200 | L7: 100000 | M7: 104900 | N7: 110200 | O7: 115700 | P7: 121500 | Q7: 127600 | R7: 134000
A8: 7 | B8: 29000 | C8: 63410 | D8: =COUNT(E8:W8) -> 17 | E8: 58000 | F8: 60900 | G8: 64000 | H8: 67200 | I8: 70500 | J8: 74100 | K8: 77800 | L8: 81700 | M8: 85700 | N8: 90000 | O8: 94500 | P8: 99200 | Q8: 104200 | R8: 109400 | S8: 114900 | T8: 120600 | U8: 126800
A9: 8 | B9: 23000 | C9: 55470 | D9: =COUNT(E9:W9) -> 19 | E9: 46000 | F9: 48300 | G9: 50800 | H9: 53300 | I9: 56000 | J9: 58800 | K9: 61700 | L9: 64800 | M9: 68000 | N9: 71400 | O9: 75000 | P9: 78700 | Q9: 82700 | R9: 86800 | S9: 91100 | T9: 95700 | U9: 100500 | V9: 105500 | W9: 110800
A10: 9 | B10: 22000 | C10: 53060 | D10: =COUNT(E10:W10) -> 19 | E10: 44000 | F10: 46200 | G10: 48600 | H10: 51000 | I10: 53500 | J10: 56200 | K10: 59000 | L10: 62000 | M10: 65100 | N10: 68300 | O10: 71700 | P10: 75300 | Q10: 79100 | R10: 83000 | S10: 87200 | T10: 91500 | U10: 96100 | V10: 100900 | W10: 105900
A11: 10 | B11: 16000 | C11: 38640 | D11: =COUNT(E11:W11) -> 19 | E11: 32000 | F11: 33600 | G11: 35300 | H11: 37100 | I11: 38900 | J11: 40900 | K11: 42900 | L11: 45100 | M11: 47300 | N11: 49700 | O11: 52200 | P11: 54800 | Q11: 57500 | R11: 60400 | S11: 63400 | T11: 66600 | U11: 69900 | V11: 73400 | W11: 77300
A12: 11 | B12: 12500 | C12: 30230 | D12: =COUNT(E12:W12) -> 19 | E12: 25000 | F12: 26300 | G12: 27600 | H12: 29000 | I12: 30400 | J12: 32000 | K12: 33600 | L12: 35200 | M12: 37000 | N12: 38800 | O12: 40800 | P12: 42800 | Q12: 44900 | R12: 47200 | S12: 49500 | T12: 52000 | U12: 54600 | V12: 57300 | W12: 60500
A13: 12 | B13: 11300 | C13: 27300 | D13: =COUNT(E13:W13) -> 19 | E13: 24300 | F13: 25600 | G13: 26800 | H13: 28200 | I13: 29600 | J13: 31100 | K13: 32600 | L13: 34200 | M13: 36000 | N13: 37700 | O13: 39600 | P13: 41600 | Q13: 43700 | R13: 45900 | S13: 48200 | T13: 50600 | U13: 53100 | V13: 55700 | W13: 58700
A14: 13 | B14: 11000 | C14: 26590 | D14: =COUNT(E14:W14) -> 19 | E14: 24000 | F14: 25200 | G14: 26500 | H14: 27800 | I14: 29200 | J14: 30700 | K14: 32200 | L14: 33800 | M14: 35500 | N14: 37300 | O14: 39100 | P14: 41100 | Q14: 43200 | R14: 45300 | S14: 47600 | T14: 49900 | U14: 52400 | V14: 55100 | W14: 58000
A15: 14 | B15: 10200 | C15: 24680 | D15: =COUNT(E15:W15) -> 19 | E15: 23500 | F15: 24700 | G15: 26000 | H15: 27300 | I15: 28600 | J15: 30000 | K15: 31500 | L15: 33100 | M15: 34800 | N15: 36500 | O15: 38300 | P15: 40200 | Q15: 42300 | R15: 44400 | S15: 46600 | T15: 48900 | U15: 51300 | V15: 53900 | W15: 56800
A16: 15 | B16: 9700 | C16: 23490 | D16: =COUNT(E16:W16) -> 19 | E16: 22800 | F16: 24000 | G16: 25200 | H16: 26400 | I16: 27800 | J16: 29100 | K16: 30600 | L16: 32100 | M16: 33700 | N16: 35400 | O16: 37200 | P16: 39000 | Q16: 41000 | R16: 43000 | S16: 45200 | T16: 47400 | U16: 49800 | V16: 52300 | W16: 55200
A17: 16 | B17: 9300 | C17: 22490 | D17: =COUNT(E17:W17) -> 19 | E17: 21900 | F17: 23000 | G17: 24200 | H17: 25400 | I17: 26700 | J17: 28000 | K17: 29400 | L17: 30900 | M17: 32400 | N17: 34000 | O17: 35700 | P17: 37500 | Q17: 39400 | R17: 41300 | S17: 43400 | T17: 45600 | U17: 47900 | V17: 50200 | W17: 52900
A18: 17 | B18: 9000 | C18: 21800 | D18: =COUNT(E18:W18) -> 19 | E18: 21400 | F18: 22500 | G18: 23600 | H18: 24800 | I18: 26100 | J18: 27400 | K18: 28700 | L18: 30200 | M18: 31700 | N18: 33200 | O18: 34900 | P18: 36700 | Q18: 38500 | R18: 40400 | S18: 42400 | T18: 44500 | U18: 46800 | V18: 49100 | W18: 51900
A19: 18 | B19: 8800 | C19: 21310 | D19: =COUNT(E19:W19) -> 19 | E19: 21000 | F19: 22100 | G19: 23200 | H19: 24400 | I19: 25600 | J19: 26900 | K19: 28200 | L19: 29600 | M19: 31100 | N19: 32600 | O19: 34300 | P19: 36000 | Q19: 37800 | R19: 39600 | S19: 41600 | T19: 43700 | U19: 45900 | V19: 48200 | W19: 50900
A20: 19 | B20: 8500 | C20: 20570 | D20: =COUNT(E20:W20) -> 19 | E20: 20500 | F20: 21600 | G20: 22700 | H20: 23800 | I20: 25000 | J20: 26200 | K20: 27500 | L20: 28900 | M20: 30300 | N20: 31900 | O20: 33400 | P20: 35100 | Q20: 36900 | R20: 38700 | S20: 40600 | T20: 42700 | U20: 44800 | V20: 47000 | W20: 49600
A21: 20 | B21: 8250 | C21: 20010 | D21: =COUNT(E21:W21) -> 19 | E21: 20000 | F21: 21000 | G21: 22100 | H21: 23200 | I21: 24400 | J21: 25600 | K21: 26900 | L21: 28200 | M21: 29600 | N21: 31100 | O21: 32600 | P21: 34300 | Q21: 36000 | R21: 37800 | S21: 39600 | T21: 41600 | U21: 43700 | V21: 45900 | W21: 48400

Sheet নির্দেশিকা
A1: ব্যবহারবিধি
A2: ১. 'ফিক্সেশন ফরম' শিটের হলুদ ঘর C3 তে গ্রেড নম্বর (১–২০) এবং C4 তে ৩০-০৬-২০২৬ তারিখের মূল বেতন ইংরেজি অঙ্কে লিখুন। বাকি সব হিসাব স্বয়ংক্রিয়।
A3: ২. ০১–০৬ ক্রমিকের তথ্য (হলুদ ঘর) ইচ্ছামতো হাতে লিখুন; পিপি থাকলে C18 তে লিখুন (না থাকলে ০)।
A4: ৩. ফরমের ডান পাশের ধূসর 'সংখ্যা' কলাম (F) এ প্রতিটি ফলাফলের ইংরেজি সংখ্যা আছে; প্রিন্ট এরিয়া শুধু A:C।
A6: হিসাবের নিয়ম (গেজেট এস.আর.ও. ৩৪৭-আইন/২০২৬, ১৭-০৯-২০২৬)
A7: • ২০১৫ স্কেলের প্রারম্ভিক ধাপ থেকে বর্তমান বেতনের পার্থক্য নির্ণয় করে ২০২৬ স্কেলের প্রারম্ভিক ধাপের সাথে যোগ করা হয়।
A8: • যোগফল কোনো ধাপের সমান হলে সেই ধাপে, না হলে পরবর্তী উচ্চতর ধাপে বেতন নির্ধারিত হয় (ক্রমিক ১০–১১)।
A9: • বৃদ্ধির পরিমাণ = নির্ধারিত বেতন − ৩০-০৬-২০২৬ এর মোট বেতন। ০১-০৭-২০২৬ থেকে ৩১-১২-২০২৬: গ্রেড ১০–২০ এ ৫০%, গ্রেড ১–৯ এ ৪০%।
A10: • ০১-০১-২০২৭ থেকে ৩০-০৬-২০২৭: গ্রেড ১০–২০ এ ৭৫%, গ্রেড ১–৯ এ ৭০%। ০১-০৭-২০২৭ থেকে ১০০% ও ইনক্রিমেন্টসহ।
A11: • প্রতিটি কিস্তির অঙ্ক নিকটতম টাকায় রাউন্ড করা হয়; শেষ কিস্তি = মোট বৃদ্ধি − আগের দুই কিস্তি (যাতে যোগফল মেলে)।
A13: সতর্কতা ও অনুমান
A14: • বৃদ্ধির পরিমাণ ও পার্থক্য নির্ণয়ে ৩০-০৬-২০২৬ এর 'মোট বেতন' (মূল বেতন + পিপি) ধরা হয়েছে — আপনার দেওয়া নমুনা ফরমের সাথে এটি মিলেছে (পিপি ০)। পিপি থাকলে অফিসিয়াল পদ্ধতির সাথে মিলিয়ে নিন।
... A20: • ২০২৬ স্কেলের ডেটা 'স্কেল ২০২৬' শিটে আছে; গেজেট সংশোধিত হলে সেখানে সংখ্যা বদলালেই ফরম আপডেট হবে।
